Workbook

Sheet FAP INDIV
B2: CATEGORIE | H2: NIVEAU DE LA FAP | J2: =IF(D2="","",VLOOKUP(D2,Catégories!B4:C31,2,FALSE)) | K2: ème degré | N2: NOM Prénom du twirler
B3: F.A.P. INDIV | H3: Version janvier 2023
B4: LANCERS | Q4: MANIEMENT GENERAL
D5: V / H | E5: Engagement | F5: Contenu | G5: Variante 1 | H5: Variante 2 | I5: Variante 3 | J5: Variante 4 | K5: Rattrapage | L5: Valeur brute | M5: Pénalité(s) | O5: Valeur finale | Q5: VALEUR | S5: 0.1 | T5: 0.5 | U5: 1 | V5: 1.5
B6: 1 | K6: CAT 1 | L6: =IF(F7="?","?",IF(F7="grisé","grisé",IF(F7=0,0,IF(SUM(D7:K7)>10,10,SUM(D7:K7))))) -> 1 | Q6: Mouvement | S6: < degré | T6: = degré | U6: > degré | V6: >> degré
E7: =IF(E6="","",VLOOKUP(E6,'BASE DONNEES LANCERS'!$M$12:$N$21,2,FALSE)) | F7: =IF(F6="","",VLOOKUP(F6,'BASE DONNEES LANCERS'!$A$6:$K$49,'BASE DONNEES LANCERS'!$H$2,FALSE)) | G7: =IF(G6="","",VLOOKUP(G6,'BASE DONNEES LANCERS'!$M$24:$N$31,2,FALSE)) | H7: =IF(H6="","",VLOOKUP(H6,'BASE DONNEES LANCERS'!$M$24:$N$31,2,FALSE)) | I7: =IF(I6="","",VLOOKUP(I6,'BASE DONNEES LANCERS'!$M$24:$N$31,2,FALSE)) | J7: =IF(J6="","",VLOOKUP(J6,'BASE DONNEES LANCERS'!$M$24:$N$31,2,FALSE)) | K7: =IF(K6="","",VLOOKUP(K6,'BASE DONNEES LANCERS'!$M$6:$N$9,2,FALSE)) -> 1 | Q7: Variété | S7: Non Varié | T7: Peu varié | U7: Varié | V7: Très Varié
B8: 2 | L8: =IF(F9="?","?",IF(F9="grisé","grisé",IF(F9=0,0,IF(SUM(D9:K9)>10,10,SUM(D9:K9))))) -> 0 | Q8: Enchainement | S8: Ponctuel | T8: Séries courtes | U8: Séries moyennes | V8: Séries longues
E9: =IF(E8="","",VLOOKUP(E8,'BASE DONNEES LANCERS'!$M$12:$N$21,2,FALSE)) | F9: =IF(F8="","",VLOOKUP(F8,'BASE DONNEES LANCERS'!$A$6:$K$49,'BASE DONNEES LANCERS'!$H$2,FALSE)) | G9: =IF(G8="","",VLOOKUP(G8,'BASE DONNEES LANCERS'!$M$24:$N$31,2,FALSE)) | H9: =IF(H8="","",VLOOKUP(H8,'BASE DONNEES LANCERS'!$M$24:$N$31,2,FALSE)) | I9: =IF(I8="","",VLOOKUP(I8,'BASE DONNEES LANCERS'!$M$24:$N$31,2,FALSE)) | J9: =IF(J8="","",VLOOKUP(J8,'BASE DONNEES LANCERS'!$M$24:$N$31,2,FALSE)) | K9: =IF(K8="","",VLOOKUP(K8,'BASE DONNEES LANCERS'!$M$6:$N$9,2,FALSE)) | Q9: Bâton | S9: Travail B fixe | T9: Travail B partiel | U9: Travail B
B10: 3 | L10: =IF(F11="?","?",IF(F11="grisé","grisé",IF(F11=0,0,IF(SUM(D11:K11)>10,10,SUM(D11:K11))))) -> 0 | Q10: Corps | S10: Sans travail C | T10: Travail C partiel | U10: Travail C
E11: =IF(E10="","",VLOOKUP(E10,'BASE DONNEES LANCERS'!$M$12:$N$21,2,FALSE)) | F11: =IF(F10="","",VLOOKUP(F10,'BASE DONNEES LANCERS'!$A$6:$K$49,'BASE DONNEES LANCERS'!$H$2,FALSE)) | G11: =IF(G10="","",VLOOKUP(G10,'BASE DONNEES LANCERS'!$M$24:$N$31,2,FALSE)) | H11: =IF(H10="","",VLOOKUP(H10,'BASE DONNEES LANCERS'!$M$24:$N$31,2,FALSE)) | I11: =IF(I10="","",VLOOKUP(I10,'BASE DONNEES LANCERS'!$M$24:$N$31,2,FALSE)) | J11: =IF(J10="","",VLOOKUP(J10,'BASE DONNEES LANCERS'!$M$24:$N$31,2,FALSE)) | K11: =IF(K10="","",VLOOKUP(K10,'BASE DONNEES LANCERS'!$M$6:$N$9,2,FALSE)) | Q11: Repère visuel | T11: Avec RV | U11: RV début ou fin | V11: sans RV
B12: 4 | L12: =IF(F13="?","?",IF(F13="grisé","grisé",IF(F13=0,0,IF(SUM(D13:K13)>10,10,SUM(D13:K13))))) -> 0 | Q12: SOUS-TOTAL
E13: =IF(E12="","",VLOOKUP(E12,'BASE DONNEES LANCERS'!$M$12:$N$21,2,FALSE)) | F13: =IF(F12="","",VLOOKUP(F12,'BASE DONNEES LANCERS'!$A$6:$K$49,'BASE DONNEES LANCERS'!$H$2,FALSE)) | G13: =IF(G12="","",VLOOKUP(G12,'BASE DONNEES LANCERS'!$M$24:$N$31,2,FALSE)) | H13: =IF(H12="","",VLOOKUP(H12,'BASE DONNEES LANCERS'!$M$24:$N$31,2,FALSE)) | I13: =IF(I12="","",VLOOKUP(I12,'BASE DONNEES LANCERS'!$M$24:$N$31,2,FALSE)) | J13: =IF(J12="","",VLOOKUP(J12,'BASE DONNEES LANCERS'!$M$24:$N$31,2,FALSE)) | K13: =IF(K12="","",VLOOKUP(K12,'BASE DONNEES LANCERS'!$M$6:$N$9,2,FALSE))
B14: 5 | L14: =IF(F15="?","?",IF(F15="grisé","grisé",IF(F15=0,0,IF(SUM(D15:K15)>10,10,SUM(D15:K15))))) -> 0 | Q14: + BONIF | R14: Vitesse | S14: 0 | T14: 0.3 | U14: 0.5 | V14: 0.7
E15: =IF(E14="","",VLOOKUP(E14,'BASE DONNEES LANCERS'!$M$12:$N$21,2,FALSE)) | F15: =IF(F14="","",VLOOKUP(F14,'BASE DONNEES LANCERS'!$A$6:$K$49,'BASE DONNEES LANCERS'!$H$2,FALSE)) | G15: =IF(G14="","",VLOOKUP(G14,'BASE DONNEES LANCERS'!$M$24:$N$31,2,FALSE)) | H15: =IF(H14="","",VLOOKUP(H14,'BASE DONNEES LANCERS'!$M$24:$N$31,2,FALSE)) | I15: =IF(I14="","",VLOOKUP(I14,'BASE DONNEES LANCERS'!$M$24:$N$31,2,FALSE)) | J15: =IF(J14="","",VLOOKUP(J14,'BASE DONNEES LANCERS'!$M$24:$N$31,2,FALSE)) | K15: =IF(K14="","",VLOOKUP(K14,'BASE DONNEES LANCERS'!$M$6:$N$9,2,FALSE)) | R15: Fluidité | S15: 0 | T15: 0.3 | U15: 0.5 | V15: 0.7
B16: MOYENNE LANCERS | R16: Développement | S16: 0 | T16: 0.3 | U16: 0.5 | V16: 1
B17: Bonif. variété sur l’ensemble des lancers | H17: Plans : V ET H | K17: 1 plan | M17: 2 plans | R17: Originalité | S17: 0 | T17: 0.3 | U17: 0.5
K18: 0 | M18: 0.2 | Q18: - PENA | R18: Réalisation | S18: -1.5 | T18: -1 | U18: -0.5 | V18: 0
H19: Familles : base, sol, saut, tour, accros, ill | K19: 1 famille | L19: 2 familles | M19: 3 familles | N19: 4 familles | O19: 5 familles | R19: Chutes | S19: -1.5 | T19: -1 | U19: -0.5 | V19: 0
K20: 0 | L20: 0.2 | M20: 0.4 | N20: 0.6 | O20: 0.8 | Q20: TOTAL MG
B21: TOTAL LANCERS
B23: ROULERS
B24: PONCTUELS | R24: NOTE FINALE
D25: ENGAGEMENT | E25: ROULER | G25: RATTRAPAGE | H25: SOL | I25: TOUR AU SOL | J25: GRAND ECART | K25: Valeur brute | L25: Pénalité(s) | N25: Valeur finale | R25: TOTAL MG
B26: 1 | K26: =IF(P27=0,IF(SUM(H27:J27)>0.5,IF(SUM(D27:G27)+1>10,10,SUM(D27:G27)+1),IF(SUM(D27:H27)>10,10,SUM(D27:H27))),IF(SUM(D27:J27)>10,10,SUM(D27:J27))) -> 0 | P26: =IF(P27="","",IF(P27=0,IF(SUM(H27:J27)>1,1,0),2))
D27: =IF(D26="","",VLOOKUP(D26,'BASE DONNEES ROULERS'!$N$13:$O$15,2,FALSE)) | E27: =IF(E26="","",VLOOKUP(E26,'BASE DONNEES ROULERS'!$A$6:$K$82,'BASE DONNEES ROULERS'!$H$2,FALSE)) | G27: =IF(G26="","",VLOOKUP(G26,'BASE DONNEES ROULERS'!$N$6:$O$9,2,FALSE)) | H27: =IF(H26="","",0.5) | I27: =IF(I26="","",1) | J27: =IF(J26="","",1) | P27: =IF(E26="","",VLOOKUP(E26,'BASE DONNEES ROULERS'!$A$6:$L$81,12,FALSE)) | R27: TOTAL LANCERS
B28: 2 | K28: =IF(P29=0,IF(SUM(H29:J29)>0.5,IF(SUM(D29:G29)+1>10,10,SUM(D29:G29)+1),IF(SUM(D29:H29)>10,10,SUM(D29:H29))),IF(SUM(D29:J29)>10,10,SUM(D29:J29))) -> 0 | P28: =IF(P29="","",IF(P29=0,IF(SUM(H29:J29)>1,1,0),2))
D29: =IF(D28="","",VLOOKUP(D28,'BASE DONNEES ROULERS'!$N$13:$O$15,2,FALSE)) | E29: =IF(E28="","",VLOOKUP(E28,'BASE DONNEES ROULERS'!$A$6:$K$81,'BASE DONNEES ROULERS'!$H$2,FALSE)) | G29: =IF(G28="","",VLOOKUP(G28,'BASE DONNEES ROULERS'!$N$6:$O$9,2,FALSE)) | H29: =IF(H28="","",0.5) | I29: =IF(I28="","",1) | J29: =IF(J28="","",1) | P29: =IF(E28="","",VLOOKUP(E28,'BASE DONNEES ROULERS'!$A$6:$L$81,12,FALSE)) | R29: TOTAL ROULERS
B30: 3 | K30: =IF(P31=0,IF(SUM(H31:J31)>0.5,IF(SUM(D31:G31)+1>10,10,SUM(D31:G31)+1),IF(SUM(D31:H31)>10,10,SUM(D31:H31))),IF(SUM(D31:J31)>10,10,SUM(D31:J31))) -> 0 | P30: =IF(P31="","",IF(P31=0,IF(SUM(H31:J31)>1,1,0),2))
D31: =IF(D30="","",VLOOKUP(D30,'BASE DONNEES ROULERS'!$N$13:$O$15,2,FALSE)) | E31: =IF(E30="","",VLOOKUP(E30,'BASE DONNEES ROULERS'!$A$6:$K$81,'BASE DONNEES ROULERS'!$H$2,FALSE)) | G31: =IF(G30="","",VLOOKUP(G30,'BASE DONNEES ROULERS'!$N$6:$O$9,2,FALSE)) | H31: =IF(H30="","",0.5) | I31: =IF(I30="","",1) | J31: =IF(J30="","",1) | P31: =IF(E30="","",VLOOKUP(E30,'BASE DONNEES ROULERS'!$A$6:$L$81,12,FALSE))
B32: 4 | K32: =IF(P33=0,IF(SUM(H33:J33)>0.5,IF(SUM(D33:G33)+1>10,10,SUM(D33:G33)+1),IF(SUM(D33:H33)>10,10,SUM(D33:H33))),IF(SUM(D33:J33)>10,10,SUM(D33:J33))) -> 0 | P32: =IF(P33="","",IF(P33=0,IF(SUM(H33:J33)>1,1,0),2))
D33: =IF(D32="","",VLOOKUP(D32,'BASE DONNEES ROULERS'!$N$13:$O$15,2,FALSE)) | E33: =IF(E32="","",VLOOKUP(E32,'BASE DONNEES ROULERS'!$A$6:$K$81,'BASE DONNEES ROULERS'!$H$2,FALSE)) | G33: =IF(G32="","",VLOOKUP(G32,'BASE DONNEES ROULERS'!$N$6:$O$9,2,FALSE)) | H33: =IF(H32="","",0.5) | I33: =IF(I32="","",1) | J33: =IF(J32="","",1) | P33: =IF(E32="","",VLOOKUP(E32,'BASE DONNEES ROULERS'!$A$6:$L$81,12,FALSE))
B34: 5 | K34: =IF(P35=0,IF(SUM(H35:J35)>0.5,IF(SUM(D35:G35)+1>10,10,SUM(D35:G35)+1),IF(SUM(D35:H35)>10,10,SUM(D35:H35))),IF(SUM(D35:J35)>10,10,SUM(D35:J35))) -> 0 | P34: =IF(P35="","",IF(P35=0,IF(SUM(H35:J35)>1,1,0),2))
D35: =IF(D34="","",VLOOKUP(D34,'BASE DONNEES ROULERS'!$N$13:$O$15,2,FALSE)) | E35: =IF(E34="","",VLOOKUP(E34,'BASE DONNEES ROULERS'!$A$6:$K$81,'BASE DONNEES ROULERS'!$H$2,FALSE)) | G35: =IF(G34="","",VLOOKUP(G34,'BASE DONNEES ROULERS'!$N$6:$O$9,2,FALSE)) | H35: =IF(H34="","",0.5) | I35: =IF(I34="","",1) | J35: =IF(J34="","",1) | P35: =IF(E34="","",VLOOKUP(E34,'BASE DONNEES ROULERS'!$A$6:$L$81,12,FALSE))
D36: SERIES
D37: ENGAGEMENT | E37: ROULER 1 | F37: ROULER 2 | G37: ROULER 3 | H37: ROULER 4 | I37: ROULER 5 | J37: ROULER 6 | K37: RATTRAPAGE | L37: MOYENNE | M37: BONIF SERIE | N37: Valeur finale
B38: 1 | K38: CAT B
D40: =IF(D38="","",VLOOKUP(D38,'BASE DONNEES ROULERS'!$N$13:$O$15,2,FALSE)) | E40: =IF(E38="","",VLOOKUP(E38,'BASE DONNEES ROULERS'!$A$6:$K$81,'BASE DONNEES ROULERS'!$H$2,FALSE)) | F40: =IF(F38="","",VLOOKUP(F38,'BASE DONNEES ROULERS'!$A$6:$K$81,'BASE DONNEES ROULERS'!$H$2,FALSE)) | G40: =IF(G38="","",VLOOKUP(G38,'BASE DONNEES ROULERS'!$A$6:$K$81,'BASE DONNEES ROULERS'!$H$2,FALSE)) | H40: =IF(H38="","",VLOOKUP(H38,'BASE DONNEES ROULERS'!$A$6:$K$81,'BASE DONNEES ROULERS'!$H$2,FALSE)) | I40: =IF(I38="","",VLOOKUP(I38,'BASE DONNEES ROULERS'!$A$6:$K$81,'BASE DONNEES ROULERS'!$H$2,FALSE)) | J40: =IF(J38="","",VLOOKUP(J38,'BASE DONNEES ROULERS'!$A$6:$K$81,'BASE DONNEES ROULERS'!$H$2,FALSE)) | K40: =IF(K38="","",VLOOKUP(K38,'BASE DONNEES ROULERS'!$N$6:$O$9,2,FALSE)) -> 1
B41: 2
D43: =IF(D41="","",VLOOKUP(D41,'BASE DONNEES ROULERS'!$N$13:$O$15,2,FALSE)) | E43: =IF(E41="","",VLOOKUP(E41,'BASE DONNEES ROULERS'!$A$6:$K$81,'BASE DONNEES ROULERS'!$H$2,FALSE)) | F43: =IF(F41="","",VLOOKUP(F41,'BASE DONNEES ROULERS'!$A$6:$K$81,'BASE DONNEES ROULERS'!$H$2,FALSE)) | G43: =IF(G41="","",VLOOKUP(G41,'BASE DONNEES ROULERS'!$A$6:$K$81,'BASE DONNEES ROULERS'!$H$2,FALSE)) | H43: =IF(H41="","",VLOOKUP(H41,'BASE DONNEES ROULERS'!$A$6:$K$81,'BASE DONNEES ROULERS'!$H$2,FALSE)) | I43: =IF(I41="","",VLOOKUP(I41,'BASE DONNEES ROULERS'!$A$6:$K$81,'BASE DONNEES ROULERS'!$H$2,FALSE)) | J43: =IF(J41="","",VLOOKUP(J41,'BASE DONNEES ROULERS'!$A$6:$K$81,'BASE DONNEES ROULERS'!$H$2,FALSE)) | K43: =IF(K41="","",VLOOKUP(K41,'BASE DONNEES ROULERS'!$N$6:$O$9,2,FALSE))
B44: 3
D46: =IF(D44="","",VLOOKUP(D44,'BASE DONNEES ROULERS'!$N$13:$O$15,2,FALSE)) | E46: =IF(E44="","",VLOOKUP(E44,'BASE DONNEES ROULERS'!$A$6:$K$81,'BASE DONNEES ROULERS'!$H$2,FALSE)) | F46: =IF(F44="","",VLOOKUP(F44,'BASE DONNEES ROULERS'!$A$6:$K$81,'BASE DONNEES ROULERS'!$H$2,FALSE)) | G46: =IF(G44="","",VLOOKUP(G44,'BASE DONNEES ROULERS'!$A$6:$K$81,'BASE DONNEES ROULERS'!$H$2,FALSE)) | H46: =IF(H44="","",VLOOKUP(H44,'BASE DONNEES ROULERS'!$A$6:$K$81,'BASE DONNEES ROULERS'!$H$2,FALSE)) | I46: =IF(I44="","",VLOOKUP(I44,'BASE DONNEES ROULERS'!$A$6:$K$81,'BASE DONNEES ROULERS'!$H$2,FALSE)) | J46: =IF(J44="","",VLOOKUP(J44,'BASE DONNEES ROULERS'!$A$6:$K$81,'BASE DONNEES ROULERS'!$H$2,FALSE)) | K46: =IF(K44="","",VLOOKUP(K44,'BASE DONNEES ROULERS'!$N$6:$O$9,2,FALSE))
B47: 4
D49: =IF(D47="","",VLOOKUP(D47,'BASE DONNEES ROULERS'!$N$13:$O$15,2,FALSE)) | E49: =IF(E47="","",VLOOKUP(E47,'BASE DONNEES ROULERS'!$A$6:$K$81,'BASE DONNEES ROULERS'!$H$2,FALSE)) | F49: =IF(F47="","",VLOOKUP(F47,'BASE DONNEES ROULERS'!$A$6:$K$81,'BASE DONNEES ROULERS'!$H$2,FALSE)) | G49: =IF(G47="","",VLOOKUP(G47,'BASE DONNEES ROULERS'!$A$6:$K$81,'BASE DONNEES ROULERS'!$H$2,FALSE)) | H49: =IF(H47="","",VLOOKUP(H47,'BASE DONNEES ROULERS'!$A$6:$K$81,'BASE DONNEES ROULERS'!$H$2,FALSE)) | I49: =IF(I47="","",VLOOKUP(I47,'BASE DONNEES ROULERS'!$A$6:$K$81,'BASE DONNEES ROULERS'!$H$2,FALSE)) | J49: =IF(J47="","",VLOOKUP(J47,'BASE DONNEES ROULERS'!$A$6:$K$81,'BASE DONNEES ROULERS'!$H$2,FALSE)) | K49: =IF(K47="","",VLOOKUP(K47,'BASE DONNEES ROULERS'!$N$6:$O$9,2,FALSE))
B50: MOYENNE ROULERS
B51: Bonification "Réalisation de série" sur l'ensemble des roulers | I51: 1 série | K51: 2 séries | M51: 3 séries
I52: 0,3 pt | K52: 0,6 pt | M52: 1,0 pt
B53: TOTAL ROULERS

Sheet BASE DONNEES LANCERS
A2: NIVEAU DE LA FAP | B2: ='FAP INDIV'!J2 | C2: ème | E2: Colonne de recherche | H2: =IF(B2="","",VLOOKUP(B2,Catégories!C3:D31,2,FALSE))
A4: LANCERS
A5: NIVEAU | B5: BASE | C5: 1 | D5: 2 | E5: 3 | F5: 3 VERT | G5: 4 | H5: 4 VERT | I5: 5 | J5: 5 VERT | K5: 6 | M5: RATTRAPAGES
A6: Lancer + déplacement | B6: 9 | C6: 8 | D6: grisé | E6: grisé | F6: grisé | G6: grisé | H6: grisé | I6: grisé | J6: grisé | K6: grisé | M6: CAT 1 | N6: 1
A7: Lancer simple V | B7: 8 | C7: 7 | D7: 5 | E7: grisé | F7: grisé | G7: grisé | H7: grisé | I7: grisé | J7: grisé | K7: grisé | M7: CAT 2 (avec RV) | N7: 2
A8: Lancer Horizontal | B8: 9 | C8: 8 | D8: 6 | E8: grisé | F8: grisé | G8: grisé | H8: grisé | I8: grisé | J8: grisé | K8: grisé | M8: CAT 3 (sans RV) | N8: 3
A9: Lancer H 1 révol | B9: 8 | C9: 7 | D9: grisé | E9: grisé | F9: grisé | G9: grisé | H9: grisé | I9: grisé | J9: grisé | K9: grisé | M9: CAT 4 | N9: 4
A10: Lâcher 3/4 | B10: 7 | C10: 5 | D10: grisé | E10: grisé | F10: grisé | G10: grisé | H10: grisé | I10: grisé | J10: grisé | K10: grisé
A11: Taper sol 1 rev | B11: 7 | C11: 5 | D11: grisé | E11: grisé | F11: grisé | G11: grisé | H11: grisé | I11: grisé | J11: grisé | K11: grisé | M11: ENGAGEMENTS
A12: Taper sol 1/2 rev | B12: 6 | C12: 4 | D12: grisé | E12: grisé | F12: grisé | G12: grisé | H12: grisé | I12: grisé | J12: grisé | K12: grisé | M12: MG vert. ou MD vert. Envers | N12: 1
A13: Lacher sans rotation | B13: 5 | C13: 4 | D13: grisé | E13: grisé | F13: grisé | G13: grisé | H13: grisé | I13: grisé | J13: grisé | K13: grisé | M13: H end ou env MD ou MG | N13: 1
A14: Flip | B14: 8 | C14: grisé | D14: grisé | E14: grisé | F14: grisé | G14: grisé | H14: grisé | I14: grisé | J14: grisé | K14: grisé | M14: Lacher vert. Gd Batt ou sous épaule | N14: 2
A15: 2T + sol | B15: grisé | C15: grisé | D15: grisé | E15: grisé | F15: grisé | G15: grisé | H15: 9 | I15: 8 | J15: 8 | K15: 7 | M15: Pz vert. Transformation H | N15: 2
A16: Allongement sans RV | B16: grisé | C16: grisé | D16: grisé | E16: 8 | F16: 8 | G16: 7 | H16: 7 | I16: 5 | J16: 5 | K16: 4 | M16: H sous jambe (fente, batt…..) | N16: 3
A17: 1T + sol | B17: grisé | C17: grisé | D17: 9 | E17: 8 | F17: 8 | G17: 7 | H17: 7 | I17: grisé | J17: grisé | K17: grisé | M17: Lacher dos / Engt dans accro ou ill | N17: 3
A18: Roulade costale | B18: grisé | C18: grisé | D18: 9 | E18: 8 | F18: 8 | G18: 7 | H18: 7 | I18: grisé | J18: grisé | K18: grisé | M18: Flip dans rond de Jbe | N18: 3
A19: Allongement avec RV | B19: grisé | C19: grisé | D19: 8 | E19: 7 | F19: 7 | G19: 5 | H19: 5 | I19: grisé | J19: grisé | K19: grisé | M19: Engt direct après manieT Gal avec RV | N19: 2
A20: Passage au sol | B20: grisé | C20: grisé | D20: 8 | E20: 7 | F20: 7 | G20: 5 | H20: 5 | I20: grisé | J20: grisé | K20: grisé | M20: Engt direct après manieT Gal sans RV | N20: 3
A21: Descente au sol | B21: 9 | C21: 8 | D21: grisé | E21: grisé | F21: grisé | G21: grisé | H21: grisé | I21: grisé | J21: grisé | K21: grisé | M21: Engagement perso | N21: -
A22: Gd jeté + gd jeté facial | B22: grisé | C22: grisé | D22: grisé | E22: grisé | F22: grisé | G22: 9 | H22: 9 | I22: 8 | J22: 8 | K22: 7
A23: Gd jeté facial (sans RV) | B23: grisé | C23: grisé | D23: grisé | E23: 9 | F23: 9 | G23: 8 | H23: 8 | I23: 7 | J23: 7 | K23: 6 | M23: VARIANTES
A24: 2 gd jetés | B24: grisé | C24: grisé | D24: 9 | E24: 8 | F24: 8 | G24: 7 | H24: 7 | I24: grisé | J24: grisé | K24: grisé | M24: T en déplacement | N24: 0
A25: Gd jeté facial (avec RV) | B25: grisé | C25: grisé | D25: 9 | E25: 8 | F25: 8 | G25: 7 | H25: 7 | I25: grisé | J25: grisé | K25: grisé | M25: Enverg. Bras | N25: 1
A26: Gd jeté | B26: grisé | C26: 9 | D26: 8 | E26: 7 | F26: 7 | G26: grisé | H26: grisé | I26: grisé | J26: grisé | K26: grisé | M26: Attitude ou saut | N26: 1
A27: Jeté | B27: 9 | C27: 8 | D27: 7 | E27: grisé | F27: grisé | G27: grisé | H27: grisé | I27: grisé | J27: grisé | K27: grisé | M27: Grand Jeté en plus | N27: 1
A28: 4 T | B28: grisé | C28: grisé | D28: grisé | E28: grisé | F28: grisé | G28: grisé | H28: 10 | I28: 9 | J28: 9 | K28: 8 | M28: Roulade costale en évolution | N28: 1
A29: 3 T | B29: grisé | C29: grisé | D29: grisé | E29: grisé | F29: 9 | G29: 8 | H29: 8 | I29: 7 | J29: 7 | K29: 6 | M29: Roulade costale en supp. | N29: 1
A30: 2 T | B30: grisé | C30: grisé | D30: 8 | E30: 7 | F30: 7 | G30: 6 | H30: 6 | I30: 5 | J30: 5 | K30: 4 | M30: Accro une main / sur les coudes | N30: 1
A31: 1 T | B31: grisé | C31: 9 | D31: 7 | E31: 6 | F31: 6 | G31: grisé | H31: grisé | I31: grisé | J31: grisé | K31: grisé | M31: Accro sans main | N31: 2
A32: Db accro + ILL | B32: grisé | C32: grisé | D32: grisé | E32: grisé | F32: grisé | G32: grisé | H32: grisé | I32: grisé | J32: grisé | K32: 10
A33: 1 saut + db accro | B33: grisé | C33: grisé | D33: grisé | E33: grisé | F33: grisé | G33: grisé | H33: grisé | I33: grisé | J33: 10 | K33: 9
A34: Db accro | B34: grisé | C34: grisé | D34: grisé | E34: grisé | F34: grisé | G34: grisé | H34: 10 | I34: 9 | J34: 9 | K34: 8
A35: 2 sauts + accro | B35: grisé | C35: grisé | D35: grisé | E35: 10 | F35: 10 | G35: 9 | H35: 9 | I35: 8 | J35: 8 | K35: 7
A36: 1 accro sol ou Att accro | B36: grisé | C36: grisé | D36: grisé | E36: 10 | F36: 10 | G36: 9 | H36: 9 | I36: 8 | J36: 8 | K36: 7
A37: 2 T + accro | B37: grisé | C37: grisé | D37: grisé | E37: grisé | F37: grisé | G37: grisé | H37: 10 | I37: 9 | J37: 9 | K37: 8
A38: 1 saut + accro | B38: grisé | C38: grisé | D38: grisé | E38: 9 | F38: 9 | G38: 8 | H38: 8 | I38: 7 | J38: 7 | K38: 6
A39: 1 T + accro | B39: grisé | C39: grisé | D39: 10 | E39: 9 | F39: 9 | G39: 8 | H39: 8 | I39: 7 | J39: 7 | K39: 6
A40: 1 accro | B40: grisé | C40: grisé | D40: 9 | E40: 8 | F40: 8 | G40: 7 | H40: 7 | I40: 5 | J40: 5 | K40: 4
A41: 2 ILL + accro | B41: grisé | C41: grisé | D41: grisé | E41: grisé | F41: grisé | G41: grisé | H41: grisé | I41: grisé | J41: grisé | K41: 10
A42: 3 ILL | B42: grisé | C42: grisé | D42: grisé | E42: grisé | F42: grisé | G42: grisé | H42: grisé | I42: grisé | J42: grisé | K42: 10
A43: 1T + 2ILL | B43: grisé | C43: grisé | D43: grisé | E43: grisé | F43: grisé | G43: grisé | H43: grisé | I43: 10 | J43: 10 | K43: 9
A44: ILL + accro | B44: grisé | C44: grisé | D44: grisé | E44: grisé | F44: grisé | G44: grisé | H44: 10 | I44: 9 | J44: 9 | K44: 8
A45: 2ILL ou 2T + ILL | B45: grisé | C45: grisé | D45: grisé | E45: grisé | F45: grisé | G45: grisé | H45: 10 | I45: 9 | J45: 9 | K45: 8
A46: ILL sol ou Att ILL | B46: grisé | C46: grisé | D46: grisé | E46: 10 | F46: 10 | G46: 9 | H46: 9 | I46: 8 | J46: 8 | K46: 7
A47: 1T + ILL | B47: grisé | C47: grisé | D47: 10 | E47: 9 | F47: 9 | G47: 8 | H47: 8 | I47: 7 | J47: 7 | K47: 6
A48: ILL | B48: grisé | C48: grisé | D48: 9 | E48: 8 | F48: 8 | G48: 7 | H48: 7 | I48: 5 | J48: 5 | K48: 4
A49: LANCER PERSO | B49: ? | C49: ? | D49: ? | E49: ? | F49: ? | G49: ? | H49: ? | I49: ? | J49: ? | K49: ?

Sheet BASE DONNEES ROULERS
A2: NIVEAU DE LA FAP | B2: ='FAP INDIV'!J2 | C2: ème | E2: Colonne de recherche | H2: =IF(B2="","",VLOOKUP(B2,Catégories!C3:D31,2,FALSE)) | J2: Famille | K2: 12
A4: ROULERS
A5: NIVEAU | B5: BASE | C5: 1 | D5: 2 | E5: 3 | F5: 3 VERT | G5: 4 | H5: 4 VERT | I5: 5 | J5: 5 VERT | K5: 6 | L5: famille | N5: RATTRAPAGES
A6: Demi demi env. | B6: grisé | C6: grisé | D6: grisé | E6: grisé | F6: grisé | G6: grisé | H6: grisé | I6: grisé | J6: 10 | K6: 9 | N6: CAT A | O6: 0.5
A7: Demi demi end. | B7: grisé | C7: grisé | D7: grisé | E7: grisé | F7: grisé | G7: grisé | H7: 9 | I7: 8 | J7: 8 | K7: 7 | N7: CAT B | O7: 1
A8: Base fuji + ej + 1/2 tour + bras | B8: grisé | C8: grisé | D8: grisé | E8: grisé | F8: 10 | G8: grisé | H8: 9 | I8: 8 | J8: 8 | K8: 7 | N8: CAT C | O8: 1.5
A9: 1 fuj env. | B9: grisé | C9: grisé | D9: grisé | E9: 8 | F9: 8 | G9: 7 | H9: 7 | I9: 6 | J9: 6 | K9: 5 | N9: CAT D | O9: 2
A10: 1 fuj en tournant | B10: grisé | C10: grisé | D10: grisé | E10: 8 | F10: 8 | G10: 7 | H10: 7 | I10: 6 | J10: 6 | K10: 5
A11: 1 fuj end. | B11: grisé | C11: grisé | D11: grisé | E11: 7 | F11: 7 | G11: 6 | H11: 6 | I11: 5 | J11: 5 | K11: 4
A12: Base fujimi env. | B12: grisé | C12: grisé | D12: grisé | E12: 6 | F12: 6 | G12: 5 | H12: 5 | I12: 4 | J12: 4 | K12: grisé | N12: ENGAGEMENT
A13: Base fujimi end. | B13: grisé | C13: grisé | D13: grisé | E13: 6 | F13: 6 | G13: 5 | H13: 5 | I13: 4 | J13: 4 | K13: grisé | N13: Enrouler | O13: 1
A14: Bras (env. ou end.) | B14: 9 | C14: 7 | D14: 6 | E14: grisé | F14: grisé | G14: grisé | H14: grisé | I14: grisé | J14: grisé | K14: grisé | N14: Intérieur coude | O14: 1
A15: Lucero A/R | B15: grisé | C15: grisé | D15: grisé | E15: grisé | F15: grisé | G15: grisé | H15: grisé | I15: grisé | J15: grisé | K15: 10 | L15: NECKROLL | N15: Dos | O15: 1
A16: Faciaux (1mini) | B16: grisé | C16: grisé | D16: grisé | E16: grisé | F16: grisé | G16: grisé | H16: grisé | I16: 10 | J16: 10 | K16: 9 | L16: NECKROLL
A17: 3 neckrolls | B17: grisé | C17: grisé | D17: grisé | E17: grisé | F17: grisé | G17: grisé | H17: 9 | I17: 8 | J17: 8 | K17: 7 | L17: NECKROLL
A18: Neckroll MG | B18: grisé | C18: grisé | D18: grisé | E18: grisé | F18: grisé | G18: 8 | H18: 8 | I18: 7 | J18: 7 | K18: 6 | L18: NECKROLL
A19: 2 neckrolls | B19: grisé | C19: grisé | D19: grisé | E19: 8 | F19: 8 | G19: 7 | H19: 7 | I19: 6 | J19: 6 | K19: 5 | L19: NECKROLL
A20: 1 neckroll | B20: grisé | C20: grisé | D20: grisé | E20: 7 | F20: 7 | G20: 6 | H20: 6 | I20: 5 | J20: 5 | K20: grisé | L20: NECKROLL
A21: Blocage aller-retour * | B21: grisé | C21: grisé | D21: grisé | E21: 7 | F21: 7 | G21: 6 | H21: 6 | I21: 5 | J21: 5 | K21: 5 | L21: NECKROLL
A22: Cou + blocage simple | B22: grisé | C22: grisé | D22: 6 | E22: grisé | F22: grisé | G22: grisé | H22: grisé | I22: grisé | J22: grisé | K22: grisé | L22: NECKROLL
A23: Cou | B23: 7 | C23: 6 | D23: grisé | E23: grisé | F23: grisé | G23: grisé | H23: grisé | I23: grisé | J23: grisé | K23: grisé | L23: NECKROLL
A24: Blocage simple* | B24: grisé | C24: grisé | D24: grisé | E24: grisé | F24: grisé | G24: 5 | H24: 5 | I24: 4 | J24: 4 | K24: 4 | L24: NECKROLL
A25: Fish avec T | B25: grisé | C25: grisé | D25: grisé | E25: 8 | F25: 8 | G25: 6 | H25: 6 | I25: 5 | J25: 5 | K25: 4
A26: Fish avec 1/2 T | B26: grisé | C26: grisé | D26: grisé | E26: 7 | F26: 7 | G26: 5 | H26: 5 | I26: grisé | J26: grisé | K26: grisé
A27: Fish envers | B27: grisé | C27: grisé | D27: grisé | E27: 5 | F27: 5 | G27: 4 | H27: 4 | I27: grisé | J27: grisé | K27: grisé | N27: VARIANTE
A28: Fish | B28: grisé | C28: grisé | D28: 6 | E28: 5 | F28: 5 | G28: grisé | H28: grisé | I28: grisé | J28: grisé | K28: grisé | N28: Sol | O28: 0.5
A29: ½ Fish | B29: 9 | C29: 7 | D29: 5 | E29: grisé | F29: grisé | G29: grisé | H29: grisé | I29: grisé | J29: grisé | K29: grisé | N29: Tour au sol | O29: 1
A30: Figure 8 sur le poignet | B30: 7 | C30: 6 | D30: grisé | E30: grisé | F30: grisé | G30: grisé | H30: grisé | I30: grisé | J30: grisé | K30: grisé | N30: Grand écart | O30: 1
A31: Poignet | B31: 6 | C31: 5 | D31: grisé | E31: grisé | F31: grisé | G31: grisé | H31: grisé | I31: grisé | J31: grisé | K31: grisé
A32: Intérieur coude ench. | B32: grisé | C32: grisé | D32: grisé | E32: grisé | F32: grisé | G32: 8 | H32: 8 | I32: 7 | J32: 7 | K32: 6
A33: Intérieur coude | B33: grisé | C33: grisé | D33: grisé | E33: 7 | F33: 7 | G33: 6 | H33: 6 | I33: 5 | J33: 5 | K33: grisé
A34: Vague + bascule | B34: grisé | C34: grisé | D34: grisé | E34: 5 | F34: 5 | G34: 4 | H34: 4 | I34: 3 | J34: 3 | K34: grisé
A35: 2 vagues | B35: grisé | C35: grisé | D35: 7 | E35: 5 | F35: 5 | G35: 4 | H35: 4 | I35: 3 | J35: 3 | K35: grisé
A36: 1 vague | B36: grisé | C36: 8 | D36: 6 | E36: 4 | F36: 4 | G36: grisé | H36: grisé | I36: grisé | J36: grisé | K36: grisé
A37: Bascule | B37: grisé | C37: 8 | D37: 6 | E37: grisé | F37: grisé | G37: grisé | H37: grisé | I37: grisé | J37: grisé | K37: grisé
A38: O.L en T | B38: grisé | C38: grisé | D38: grisé | E38: 8 | F38: 8 | G38: 6 | H38: 6 | I38: 5 | J38: 5 | K38: 4
A39: R.E.O.L | B39: grisé | C39: grisé | D39: grisé | E39: 7 | F39: 7 | G39: 4 | H39: 4 | I39: grisé | J39: grisé | K39: grisé
A40: O.L. | B40: grisé | C40: grisé | D40: 7 | E40: 5 | F40: 5 | G40: grisé | H40: grisé | I40: grisé | J40: grisé | K40: grisé
A41: CC V x3 | B41: grisé | C41: grisé | D41: grisé | E41: grisé | F41: grisé | G41: grisé | H41: 8 | I41: 7 | J41: 7 | K41: 6
A42: CC V x2 | B42: grisé | C42: grisé | D42: grisé | E42: 8 | F42: 8 | G42: 7 | H42: 7 | I42: 6 | J42: 6 | K42: 5
A43: CC V | B43: grisé | C43: grisé | D43: 6 | E43: 5 | F43: 5 | G43: 5 | H43: 5 | I43: grisé | J43: grisé | K43: grisé
A44: Coude | B44: 7 | C44: 6 | D44: 5 | E44: grisé | F44: grisé | G44: grisé | H44: grisé | I44: grisé | J44: grisé | K44: grisé
A45: Eject. T ench. (2T avec 5 éject.) | B45: grisé | C45: grisé | D45: grisé | E45: grisé | F45: grisé | G45: grisé | H45: grisé | I45: grisé | J45: 10 | K45: 8
A46: Eject. T (1T avec 3 éject.) | B46: grisé | C46: grisé | D46: grisé | E46: grisé | F46: grisé | G46: grisé | H46: 10 | I46: 8 | J46: 8 | K46: 6
A47: Eject. G/D ench. | B47: grisé | C47: grisé | D47: grisé | E47: grisé | F47: grisé | G47: 9 | H47: 9 | I47: 7 | J47: 7 | K47: 6
A48: Eject. G ench. (3 ejec) | B48: grisé | C48: grisé | D48: grisé | E48: grisé | F48: grisé | G48: 8 | H48: 8 | I48: 6 | J48: 6 | K48: 5
A49: Eject. G/D | B49: grisé | C49: grisé | D49: grisé | E49: grisé | F49: grisé | G49: 7 | H49: 7 | I49: 6 | J49: 6 | K49: 4
A50: Eject. G x2 | B50: grisé | C50: grisé | D50: grisé | E50: 7 | F50: 7 | G50: 6 | H50: 6 | I50: 5 | J50: 5 | K50: 4
A51: Eject. Coude x1 | B51: grisé | C51: 7 | D51: 6 | E51: 4 | F51: 4 | G51: grisé | H51: grisé | I51: grisé | J51: grisé | K51: grisé
A52: Anges A/R | B52: grisé | C52: grisé | D52: grisé | E52: grisé | F52: grisé | G52: grisé | H52: grisé | I52: 9 | J52: 9 | K52: 8
A53: Anges eject. ou ench. | B53: grisé | C53: grisé | D53: grisé | E53: grisé | F53: grisé | G53: 9 | H53: 9 | I53: 8 | J53: 8 | K53: 7
A54: Ange frontal | B54: grisé | C54: grisé | D54: grisé | E54: 8 | F54: 8 | G54: 7 | H54: 7 | I54: 6 | J54: 6 | K54: 5
A55: Ange | B55: grisé | C55: grisé | D55: 8 | E55: 6 | F55: 6 | G55: 5 | H55: 5 | I55: grisé | J55: grisé | K55: grisé
A56: 1/2 ange | B56: grisé | C56: 8 | D56: 6 | E56: 5 | F56: 5 | G56: grisé | H56: grisé | I56: grisé | J56: grisé | K56: grisé
A57: Intérieur bras | B57: 7 | C57: 6 | D57: 5 | E57: grisé | F57: grisé | G57: grisé | H57: grisé | I57: grisé | J57: grisé | K57: grisé
A58: Passage dos A/R ench. | B58: grisé | C58: grisé | D58: grisé | E58: grisé | F58: grisé | G58: grisé | H58: grisé | I58: grisé | J58: grisé | K58: 10
A59: Passage dos A éject. R | B59: grisé | C59: grisé | D59: grisé | E59: grisé | F59: grisé | G59: grisé | H59: grisé | I59: grisé | J59: 10 | K59: 9
A60: Passage dos A/R | B60: grisé | C60: grisé | D60: grisé | E60: grisé | F60: grisé | G60: grisé | H60: 10 | I60: 9 | J60: 9 | K60: 8
A61: Passage dos ench. | B61: grisé | C61: grisé | D61: grisé | E61: grisé | F61: grisé | G61: 9 | H61: 9 | I61: 8 | J61: 8 | K61: 7
A62: Passage dos | B62: grisé | C62: grisé | D62: grisé | E62: grisé | F62: grisé | G62: 8 | H62: 8 | I62: 7 | J62: 7 | K62: 6
A63: Rouler épaule | B63: grisé | C63: grisé | D63: 7 | E63: 6 | F63: 6 | G63: 5 | H63: 5 | I63: grisé | J63: grisé | K63: grisé
A64: Singer | B64: grisé | C64: grisé | D64: grisé | E64: grisé | F64: grisé | G64: grisé | H64: grisé | I64: grisé | J64: grisé | K64: 10
A65: RL ép/cou/ép ench. (3 mini) | B65: grisé | C65: grisé | D65: grisé | E65: grisé | F65: grisé | G65: grisé | H65: grisé | I65: grisé | J65: 10 | K65: 9
A66: Papillons | B66: grisé | C66: grisé | D66: grisé | E66: grisé | F66: grisé | G66: grisé | H66: 10 | I66: 9 | J66: 9 | K66: 8
A67: Bases singer ench. | B67: grisé | C67: grisé | D67: grisé | E67: grisé | F67: grisé | G67: grisé | H67: 10 | I67: 9 | J67: 9 | K67: 8
A68: Blocage sous épaule * | B68: grisé | C68: grisé | D68: grisé | E68: grisé | F68: grisé | G68: 9 | H68: 9 | I68: 8 | J68: 8 | K68: 7
A69: Base singer D ou G | B69: grisé | C69: grisé | D69: grisé | E69: grisé | F69: grisé | G69: 9 | H69: 9 | I69: 8 | J69: 8 | K69: 7
A70: RL ép/cou/ép | B70: grisé | C70: grisé | D70: grisé | E70: 7 | F70: 7 | G70: 6 | H70: 6 | I70: 5 | J70: 5 | K70: 4
A71: RL ep/cou | B71: grisé | C71: grisé | D71: grisé | E71: 6 | F71: 6 | G71: 4 | H71: 4 | I71: grisé | J71: grisé | K71: grisé
A72: Cheville | B72: grisé | C72: 7 | D72: 6 | E72: 5 | F72: 5 | G72: grisé | H72: grisé | I72: grisé | J72: grisé | K72: grisé
A73: Taille | B73: 9 | C73: 6 | D73: 5 | E73: grisé | F73: grisé | G73: grisé | H73: grisé | I73: grisé | J73: grisé | K73: grisé
A74: Horloge H en tournant * | B74: grisé | C74: grisé | D74: 10 | E74: 9 | F74: 9 | G74: 8 | H74: 8 | I74: 7 | J74: 7 | K74: 6
A75: Horloge H x 1 | B75: grisé | C75: grisé | D75: 7 | E75: 6 | F75: 6 | G75: 5 | H75: 5 | I75: grisé | J75: grisé | K75: grisé
A76: Horloge en tournant bt en équilibre | B76: grisé | C76: grisé | D76: grisé | E76: grisé | F76: grisé | G76: grisé | H76: grisé | I76: 10 | J76: 10 | K76: 9
A77: Horloge en tournant | B77: grisé | C77: grisé | D77: grisé | E77: grisé | F77: grisé | G77: 10 | H77: 10 | I77: 9 | J77: 9 | K77: 8
A78: Horloge sur la tête | B78: grisé | C78: grisé | D78: grisé | E78: grisé | F78: grisé | G78: 10 | H78: 10 | I78: 9 | J78: 9 | K78: 8
A79: Horloge x 2 | B79: grisé | C79: grisé | D79: grisé | E79: grisé | F79: grisé | G79: 9 | H79: 9 | I79: 8 | J79: 8 | K79: 7
A80: Horloge x 1 | B80: grisé | C80: grisé | D80: 10 | E80: 9 | F80: 9 | G80: 8 | H80: 8 | I80: 7 | J80: 7 | K80: 6
A81: Balancer de gauche à droite * | B81: grisé | C81: grisé | D81: 8 | E81: 7 | F81: 7 | G81: 6 | H81: 6 | I81: 6 | J81: 6 | K81: 5
A82: ROULER PERSO | B82: ? | C82: ? | D82: ? | E82: ? | F82: ? | G82: ? | H82: ? | I82: ? | J82: ? | K82: ?

Sheet Catégories
A3: Catégorie | C3: Niveau | D3: Colonne
A4: POUSSIN | B4: PP | C4: 1 | D4: 3
A5: BENJAMIN | B5: BP | C5: 1 | D5: 3
B6: BH | C6: 2 | D6: 4
B7: BEXC | C7: 3 VERT | D7: 6
A8: MINIME | B8: MP | C8: 1 | D8: 2
B9: MH | C9: 2 | D9: 4
B10: MEXC | C10: 3 | D10: 5
B11: MGP | C11: 4 VERT | D11: 8
A12: CADET | B12: CP | C12: 2 | D12: 4
B13: CH | C13: 3 | D13: 5
B14: CEXC | C14: 4 | D14: 7
B15: CGP | C15: 5 VERT | D15: 10
A16: JUNIOR 1 FILLE | B16: J1P fille | C16: 2 | D16: 4
B17: J1H fille | C17: 3 | D17: 5
B18: J1EXC fille | C18: 4 | D18: 7
A19: JUNIOR 2 FILLE | B19: J2P fille | C19: 3 | D19: 5
B20: J2EXC fille | C20: 4 | D20: 7
A21: JUNIOR FILLE | B21: JEXC SUP | C21: 5 | D21: 9
B22: JGP | C22: 6 | D22: 11
A23: JUNIOR GARCON | B23: JP garçon | C23: 2 | D23: 4
B24: JH garçon | C24: 3 | D24: 3
B25: JEXC garçon | C25: 4 | D25: 7
B26: JEXC SUP garçon | C26: 5 | D26: 9
B27: JGP garçon | C27: 6 | D27: 11
A28: SENIOR | B28: SP | C28: 4 VERT | D28: 8
B29: SEXC SUP | C29: 5 | D29: 9
B30: SGP | C30: 6 | D30: 11
A31: SENIOR + | B31: S+ | C31: 4 VERT | D31: 8
